BEGIN:VCALENDAR
VERSION:2.0
PRODID:-//hacksw/handcal//NONSGML v1.0//EN
BEGIN:VEVENT
SUMMARY:Champt Veteran S20: ABM.1 contre ABM.3
UID:125f2472-4d9d-44e2-b3c4-c81265b3cd86
DTSTART:20260511T110000Z
DTEND:20260511T160000Z
LOCATION:Localisation   
CATEGORIES:Sportif
STATUS:
URL;VALUE=URI:https://abmpetanquemonsois.sportsregions.fr/evenements/2026/05/11/champt-veteran-s20-abm1-contre-abm3-2430766
END:VEVENT
END:VCALENDAR
