BEGIN:VCALENDAR
VERSION:2.0
PRODID:-//hacksw/handcal//NONSGML v1.0//EN
BEGIN:VEVENT
SUMMARY:Champt Veteran S19: ABM.3 contre  Wavrin.1
UID:1d7d34ba-a193-4178-bf34-74fee1e5cbd2
DTSTART:20260507T110000Z
DTEND:20260507T160000Z
LOCATION:Localisation   
CATEGORIES:Sportif
STATUS:
URL;VALUE=URI:https://abmpetanquemonsois.sportsregions.fr/evenements/2026/05/07/champt-veteran-s19-abm3-contre-wavrin1-2430764
END:VEVENT
END:VCALENDAR
