BEGIN:VCALENDAR
VERSION:2.0
PRODID:-//hacksw/handcal//NONSGML v1.0//EN
BEGIN:VEVENT
SUMMARY:Champt Veteran S19: Tressin contre ABM.1
UID:635a8584-7825-49e3-86c7-e9863b90e25a
DTSTART:20260506T110000Z
DTEND:20260506T160000Z
LOCATION:Localisation   
CATEGORIES:Sportif
STATUS:
URL;VALUE=URI:https://abmpetanquemonsois.sportsregions.fr/evenements/2026/05/06/champt-veteran-s19-tressin-contre-abm1-2430761
END:VEVENT
END:VCALENDAR
