BEGIN:VCALENDAR
VERSION:2.0
PRODID:-//hacksw/handcal//NONSGML v1.0//EN
BEGIN:VEVENT
SUMMARY:Champt Veteran S18: Loos.1 contre ABM.2
UID:63d61376-bf27-4202-acfe-4f08e0cd15c6
DTSTART:20260428T110000Z
DTEND:20260428T160000Z
LOCATION:Localisation   
CATEGORIES:Sportif
STATUS:
URL;VALUE=URI:https://abmpetanquemonsois.sportsregions.fr/evenements/2026/04/28/champt-veteran-s18-loos1-contre-abm2-2430758
END:VEVENT
END:VCALENDAR
