BEGIN:VCALENDAR
VERSION:2.0
PRODID:-//hacksw/handcal//NONSGML v1.0//EN
BEGIN:VEVENT
SUMMARY:Champt Veteran S18: ABM.1 contre Templemars
UID:ebc42a89-264b-4f47-bd98-0ac194a10c02
DTSTART:20260427T110000Z
DTEND:20260427T160000Z
LOCATION:Localisation   
CATEGORIES:Sportif
STATUS:
URL;VALUE=URI:https://abmpetanquemonsois.sportsregions.fr/evenements/2026/04/27/champt-veteran-s18-abm1-contre-templemars-2430757
END:VEVENT
END:VCALENDAR
