BEGIN:VCALENDAR
VERSION:2.0
PRODID:-//hacksw/handcal//NONSGML v1.0//EN
BEGIN:VEVENT
SUMMARY:Champt Veteran S17: Loos.2 contre ABM.3
UID:890c18d7-a6bf-40d4-b662-73cb0b20001b
DTSTART:20260423T110000Z
DTEND:20260423T160000Z
LOCATION:Localisation   
CATEGORIES:Sportif
STATUS:
URL;VALUE=URI:https://abmpetanquemonsois.sportsregions.fr/evenements/2026/04/23/champt-veteran-s17-loos2-contre-abm3-2430750
END:VEVENT
END:VCALENDAR
