BEGIN:VCALENDAR
VERSION:2.0
PRODID:-//hacksw/handcal//NONSGML v1.0//EN
BEGIN:VEVENT
SUMMARY:Champt Veteran SB: Sainghin en Weppes  contre ABM.1
UID:c12fb3a2-40de-4db6-8ef6-f75fbff9a5e6
DTSTART:20260422T110000Z
DTEND:20260422T160000Z
LOCATION:Localisation   
CATEGORIES:Sportif
STATUS:
URL;VALUE=URI:https://abmpetanquemonsois.sportsregions.fr/evenements/2026/04/22/champt-veteran-sb-sainghin-en-weppes-contre-abm1-2430751
END:VEVENT
END:VCALENDAR
