BEGIN:VCALENDAR
VERSION:2.0
PRODID:-//hacksw/handcal//NONSGML v1.0//EN
BEGIN:VEVENT
SUMMARY:Champt Veteran S17: ABM.2 contre Loos.3
UID:fd35b94a-7c73-46b2-97b2-befc25d36143
DTSTART:20260421T110000Z
DTEND:20260421T160000Z
LOCATION:Localisation   
CATEGORIES:Sportif
STATUS:
URL;VALUE=URI:https://abmpetanquemonsois.sportsregions.fr/evenements/2026/04/21/champt-veteran-s17-abm2-contre-loos3-2430749
END:VEVENT
END:VCALENDAR
