BEGIN:VCALENDAR
VERSION:2.0
PRODID:-//hacksw/handcal//NONSGML v1.0//EN
BEGIN:VEVENT
SUMMARY:Champt Veteran S16: LM.2 contre ABM.1
UID:4cb34411-6982-44ab-bdb3-c060203d031e
DTSTART:20260416T110000Z
DTEND:20260416T160000Z
LOCATION:Localisation   
CATEGORIES:Sportif
STATUS:
URL;VALUE=URI:https://abmpetanquemonsois.sportsregions.fr/evenements/2026/04/16/champt-veteran-s16-lm2-contre-abm1-2430744
END:VEVENT
END:VCALENDAR
