BEGIN:VCALENDAR
VERSION:2.0
PRODID:-//hacksw/handcal//NONSGML v1.0//EN
BEGIN:VEVENT
SUMMARY:Champt Veteran S16: ABM.3 contre Avelin
UID:90637aaa-104f-44bd-bf5a-8521e40068b9
DTSTART:20260416T110000Z
DTEND:20260416T160000Z
LOCATION:Localisation   
CATEGORIES:Sportif
STATUS:
URL;VALUE=URI:https://abmpetanquemonsois.sportsregions.fr/evenements/2026/04/16/champt-veteran-s16-abm3-contre-avelin-2430747
END:VEVENT
END:VCALENDAR
