BEGIN:VCALENDAR
VERSION:2.0
PRODID:-//hacksw/handcal//NONSGML v1.0//EN
BEGIN:VEVENT
SUMMARY:Champt Veteran S15 :FT.3 contre ABM.2
UID:b50764e1-8da4-4348-9e52-2aeab1609ffe
DTSTART:20260409T110000Z
DTEND:20260409T160000Z
LOCATION:Localisation   
CATEGORIES:Sportif
STATUS:
URL;VALUE=URI:https://abmpetanquemonsois.sportsregions.fr/evenements/2026/04/09/champt-veteran-s15-ft3-contre-abm2-2430736
END:VEVENT
END:VCALENDAR
