BEGIN:VCALENDAR
VERSION:2.0
PRODID:-//hacksw/handcal//NONSGML v1.0//EN
BEGIN:VEVENT
SUMMARY:Champt Veteran S15 :ABM.3 contre Marcq.2
UID:843c9f93-4471-4848-ab87-8b64be124c01
DTSTART:20260409T110000Z
DTEND:20260409T160000Z
LOCATION:Localisation   
CATEGORIES:Sportif
STATUS:
URL;VALUE=URI:https://abmpetanquemonsois.sportsregions.fr/evenements/2026/04/09/champt-veteran-s15-abm3-contre-marcq2-2430741
END:VEVENT
END:VCALENDAR
