BEGIN:VCALENDAR
VERSION:2.0
PRODID:-//hacksw/handcal//NONSGML v1.0//EN
BEGIN:VEVENT
SUMMARY:Champt Veteran S15: ABM.1 contre Wavrin.2
UID:e3f9e94e-b4e4-4a6b-a838-ef8bf8cc4c40
DTSTART:20260407T110000Z
DTEND:20260407T160000Z
LOCATION:Localisation   
CATEGORIES:Sportif
STATUS:
URL;VALUE=URI:https://abmpetanquemonsois.sportsregions.fr/evenements/2026/04/07/champt-veteran-s15-abm1-contre-wavrin2-2430733
END:VEVENT
END:VCALENDAR
