BEGIN:VCALENDAR
VERSION:2.0
PRODID:-//hacksw/handcal//NONSGML v1.0//EN
BEGIN:VEVENT
SUMMARY:Champt Veteran SB :ABM.3 contre Tourcoing
UID:a56cc7ad-d46e-4850-81e2-b8e881a7eefd
DTSTART:20260402T110000Z
DTEND:20260402T160000Z
LOCATION:Localisation   
CATEGORIES:Sportif
STATUS:
URL;VALUE=URI:https://abmpetanquemonsois.sportsregions.fr/evenements/2026/04/02/champt-veteran-sb-abm3-contre-tourcoing-2430754
END:VEVENT
END:VCALENDAR
