BEGIN:VCALENDAR
VERSION:2.0
PRODID:-//hacksw/handcal//NONSGML v1.0//EN
BEGIN:VEVENT
SUMMARY:Champt Veteran SB :Marcq.2 contre ABM.2
UID:3204f2d2-1f06-4a5f-b734-88ebbb836462
DTSTART:20260401T110000Z
DTEND:20260401T160000Z
LOCATION:Localisation   
CATEGORIES:Sportif
STATUS:
URL;VALUE=URI:https://abmpetanquemonsois.sportsregions.fr/evenements/2026/04/01/champt-veteran-sb-marcq2-contre-abm2-2430753
END:VEVENT
END:VCALENDAR
