BEGIN:VCALENDAR
VERSION:2.0
PRODID:-//hacksw/handcal//NONSGML v1.0//EN
BEGIN:VEVENT
SUMMARY:Champt Veteran S14: Tressin contre ABM.3
UID:722126b4-9d97-478f-aa1c-1855d76fdfa0
DTSTART:20260401T110000Z
DTEND:20260401T160000Z
LOCATION:Localisation   
CATEGORIES:Sportif
STATUS:
URL;VALUE=URI:https://abmpetanquemonsois.sportsregions.fr/evenements/2026/04/01/champt-veteran-s14-tressin-contre-abm3-2430731
END:VEVENT
END:VCALENDAR
