BEGIN:VCALENDAR
VERSION:2.0
PRODID:-//hacksw/handcal//NONSGML v1.0//EN
BEGIN:VEVENT
SUMMARY:Champt Veteran S14: Chereng contre ABM.1
UID:b1f57331-230c-41c7-91ee-2b20aa12e4a0
DTSTART:20260331T110000Z
DTEND:20260331T160000Z
LOCATION:Localisation   
CATEGORIES:Sportif
STATUS:
URL;VALUE=URI:https://abmpetanquemonsois.sportsregions.fr/evenements/2026/03/31/champt-veteran-s14-chereng-contre-abm1-2430728
END:VEVENT
END:VCALENDAR
