BEGIN:VCALENDAR
VERSION:2.0
PRODID:-//hacksw/handcal//NONSGML v1.0//EN
BEGIN:VEVENT
SUMMARY:Champt Veteran S14: ABM.2 contre LaMadeleine.1
UID:22dd7fda-083a-40ec-bc62-10e0a91e0656
DTSTART:20260331T110000Z
DTEND:20260331T160000Z
LOCATION:Localisation   
CATEGORIES:Sportif
STATUS:
URL;VALUE=URI:https://abmpetanquemonsois.sportsregions.fr/evenements/2026/03/31/champt-veteran-s14-abm2-contre-lamadeleine1-2430729
END:VEVENT
END:VCALENDAR
