BEGIN:VCALENDAR
VERSION:2.0
PRODID:-//hacksw/handcal//NONSGML v1.0//EN
BEGIN:VEVENT
SUMMARY:Champt Veteran S13 : FT.2 contre ABM.2
UID:00691a1f-4b1c-4fc6-a388-ff734b60ae21
DTSTART:20260326T120000Z
DTEND:20260326T170000Z
LOCATION:Localisation   
CATEGORIES:Sportif
STATUS:
URL;VALUE=URI:https://abmpetanquemonsois.sportsregions.fr/evenements/2026/03/26/champt-veteran-s13-ft2-contre-abm2-2430723
END:VEVENT
END:VCALENDAR
